BEGIN:VCALENDAR
VERSION:2.0
PRODID:-//KC Zahrada - ECPv4.7.3//NONSGML v1.0//EN
CALSCALE:GREGORIAN
METHOD:PUBLISH
X-WR-CALNAME:KC Zahrada
X-ORIGINAL-URL:https://kczahrada.cz
X-WR-CALDESC:Events for KC Zahrada
BEGIN:VEVENT
DTSTART;TZID=Europe/Prague:20210104T160000
DTEND;TZID=Europe/Prague:20210131T150000
DTSTAMP:20260422T103048
CREATED:20201203T094021Z
LAST-MODIFIED:20201203T094021Z
UID:5045-1609776000-1612105200@kczahrada.cz
SUMMARY:Výstava: Práce výtvarného ateliéru
DESCRIPTION:Výstava prací návštěvníků kroužku výtvarky u paní Ilony Němcové. \nVýstava potrvá od 4.1.2021 do 31.1.2021. \nVstup volný \n
URL:https://kczahrada.cz/udalost/vystava-prace-vytvarneho-atelieru/
LOCATION:Kulturní centrum Zahrada\, Malenická 1784\, Praha 4\, 14800
CATEGORIES:Výstavy
ATTACH;FMTTYPE=image/jpeg:https://kczahrada.cz/wp-content/uploads/2020/12/Výstava-leden-výtvarný-ateliér.jpg
END:VEVENT
END:VCALENDAR