BEGIN:VCALENDAR
VERSION:2.0
PRODID:-//KC Zahrada - ECPv4.7.3//NONSGML v1.0//EN
CALSCALE:GREGORIAN
METHOD:PUBLISH
X-WR-CALNAME:KC Zahrada
X-ORIGINAL-URL:https://kczahrada.cz
X-WR-CALDESC:Events for KC Zahrada
BEGIN:VEVENT
DTSTART;TZID=Europe/Prague:20221116T190000
DTEND;TZID=Europe/Prague:20221116T210000
DTSTAMP:20260421T090129
CREATED:20220922T074306Z
LAST-MODIFIED:20220922T074509Z
UID:9568-1668625200-1668632400@kczahrada.cz
SUMMARY:Veřejná generální zkouška Olympic60
DESCRIPTION:Výroční koncert nestárnoucí legendy české hudební scény\, která oslaví 60 let. Olympic zahraje své největší hity. Můžete se těšit na řadu hostů\, velkolepou scénu a show. \n
URL:https://kczahrada.cz/udalost/verejna-generalni-zkouska-olympic60/
LOCATION:Kulturní centrum Zahrada\, Malenická 1784\, Praha 4\, 14800
CATEGORIES:Koncert,slider
ATTACH;FMTTYPE=image/jpeg:https://kczahrada.cz/wp-content/uploads/2022/09/olympic60-billboard-600x300-1.jpg
ORGANIZER;CN="KC%20zahrada":MAILTO:info@kczahrada.cz
END:VEVENT
END:VCALENDAR