BEGIN:VCALENDAR
VERSION:2.0
PRODID:-//KC Zahrada - ECPv4.7.3//NONSGML v1.0//EN
CALSCALE:GREGORIAN
METHOD:PUBLISH
X-WR-CALNAME:KC Zahrada
X-ORIGINAL-URL:https://kczahrada.cz
X-WR-CALDESC:Events for KC Zahrada
BEGIN:VEVENT
DTSTART;TZID=Europe/Prague:20190413T100000
DTEND;TZID=Europe/Prague:20190413T120000
DTSTAMP:20260420T221133
CREATED:20190301T120642Z
LAST-MODIFIED:20190301T120642Z
UID:1371-1555149600-1555156800@kczahrada.cz
SUMMARY:Velikonoční výtvarná dílna
DESCRIPTION:Téma: Velikonoční dekorace \n  \nTradiční tvořivá dílnička pro děti. \nLektor: Ilona Němcová \nVstupné 50 Kč \n  \nnutno rezervovat místo předem\, kapacita dílny je omezena\n
URL:https://kczahrada.cz/udalost/velikonocni-vytvarna-dilna/
LOCATION:Kulturní centrum Zahrada\, Malenická 1784\, Praha 4\, 14800
ATTACH;FMTTYPE=image/jpeg:https://kczahrada.cz/wp-content/uploads/2019/03/Velikonoční-dekorace.jpg
END:VEVENT
END:VCALENDAR