BEGIN:VCALENDAR
VERSION:2.0
PRODID:-//KC Zahrada - ECPv4.7.3//NONSGML v1.0//EN
CALSCALE:GREGORIAN
METHOD:PUBLISH
X-WR-CALNAME:KC Zahrada
X-ORIGINAL-URL:https://kczahrada.cz
X-WR-CALDESC:Events for KC Zahrada
BEGIN:VEVENT
DTSTART;TZID=Europe/Prague:20231216T150000
DTEND;TZID=Europe/Prague:20231216T173000
DTSTAMP:20260421T101329
CREATED:20231122T073203Z
LAST-MODIFIED:20231122T073203Z
UID:11627-1702738800-1702747800@kczahrada.cz
SUMMARY:Vánoční Hraní bez hranic
DESCRIPTION:Přijďte se před vánoci pořádně naladit na klid a pohodu Vánočních svátků. Čeká vás pohádka\, výtvarné dílny a zpívání koled.\nCena: zdarma  \n
URL:https://kczahrada.cz/udalost/vanocni-hrani-bez-hranic-2/
LOCATION:Kulturní centrum Zahrada\, Malenická 1784\, Praha 4\, 14800
CATEGORIES:AKCE,Dětem,Divadlo
ATTACH;FMTTYPE=image/jpeg:https://kczahrada.cz/wp-content/uploads/2023/11/Hrani-bez-hranic-2532.jpg
ORGANIZER;CN="KC%20zahrada":MAILTO:info@kczahrada.cz
END:VEVENT
END:VCALENDAR