BEGIN:VCALENDAR
VERSION:2.0
PRODID:-//KC Zahrada - ECPv4.7.3//NONSGML v1.0//EN
CALSCALE:GREGORIAN
METHOD:PUBLISH
X-WR-CALNAME:KC Zahrada
X-ORIGINAL-URL:https://kczahrada.cz
X-WR-CALDESC:Events for KC Zahrada
BEGIN:VEVENT
DTSTART;TZID=Europe/Prague:20190716T200000
DTEND;TZID=Europe/Prague:20190716T220000
DTSTAMP:20260420T171615
CREATED:20190430T110110Z
LAST-MODIFIED:20190719T064806Z
UID:1707-1563307200-1563314400@kczahrada.cz
SUMMARY:Tóny Chodovské tvrze: VE ZNAMENÍ ZPĚVU\, LOUTNY A KYTARY
DESCRIPTION:16. ročník letního hudebního festivalu s Jaroslavem Svěceným a jeho hosty \n  \nLubomír Brabec – kytara \nPavla Fendrychová – zpěv \nJindřich Macek – loutna \nJaroslav Svěcený – housle \n  \nJak již název napovídá\, na nádvoří Chodovské tvrze dojde k setkání houslí\, loutny\, kytary a zpěvu. Naše společná hudební procházka tohoto originálně laděného večera nás zavede do období renesančních skladeb\, přes hudbu baroka a skončí až hudbou 20. století. \n  \nPlné vstupné 490 Kč Senioři 390 Kč ZTP 245 Kč \nDěkujeme hlavnímu sponzorovi Pražské teplárenské a.s.                         \n
URL:https://kczahrada.cz/udalost/tony-chodovske-tvrze-ve-znameni-zpevu-loutny-a-kytary/
LOCATION:Chodovská tvrz\, Ledvinova 9\, Praha 4\, Česká republika
CATEGORIES:Koncert,slider
ATTACH;FMTTYPE=image/jpeg:https://kczahrada.cz/wp-content/uploads/2019/04/Tóny-CHT-201903.jpg
END:VEVENT
END:VCALENDAR