BEGIN:VCALENDAR
VERSION:2.0
PRODID:-//KC Zahrada - ECPv4.7.3//NONSGML v1.0//EN
CALSCALE:GREGORIAN
METHOD:PUBLISH
X-WR-CALNAME:KC Zahrada
X-ORIGINAL-URL:https://kczahrada.cz
X-WR-CALDESC:Events for KC Zahrada
BEGIN:VEVENT
DTSTART;TZID=Europe/Prague:20190710T200000
DTEND;TZID=Europe/Prague:20190710T220000
DTSTAMP:20260420T184956
CREATED:20190430T104735Z
LAST-MODIFIED:20190719T064552Z
UID:1701-1562788800-1562796000@kczahrada.cz
SUMMARY:Tóny Chodovské tvrze: SLAVNOSTI STRUN
DESCRIPTION:16. ročník letního hudebního festivalu s Jaroslavem Svěceným a jeho hosty \n  \nJaroslav Svěcený – housle \nLukáš Sommer – kytara \nEve Quartet – ženské smyčcové kvarteto \n  \nNetradiční\, ale na festivalu velmi oblíbené spojení sólových houslí s klasickou kytarou a letos i s ženským smyčcovým kvartetem bude pro všechny jistě silným zážitkem. Letním nádvořím Chodovské tvrze budou za soumraku znít skladby 18.-21. století. \n  \nPlné vstupné 490 Kč Senioři 390 Kč ZTP 245 Kč \nDěkujeme hlavnímu sponzorovi Pražské teplárenské a.s.                         \n
URL:https://kczahrada.cz/udalost/tony-chodovske-tvrze-slavnosti-strun/
LOCATION:Chodovská tvrz\, Ledvinova 9\, Praha 4\, Česká republika
CATEGORIES:Koncert,slider
ATTACH;FMTTYPE=image/jpeg:https://kczahrada.cz/wp-content/uploads/2019/04/Tóny-201902.jpg
END:VEVENT
END:VCALENDAR