BEGIN:VCALENDAR
VERSION:2.0
PRODID:-//KC Zahrada - ECPv4.7.3//NONSGML v1.0//EN
CALSCALE:GREGORIAN
METHOD:PUBLISH
X-WR-CALNAME:KC Zahrada
X-ORIGINAL-URL:https://kczahrada.cz
X-WR-CALDESC:Events for KC Zahrada
BEGIN:VEVENT
DTSTART;TZID=Europe/Prague:20250523T200000
DTEND;TZID=Europe/Prague:20250523T220000
DTSTAMP:20260421T075017
CREATED:20250123T072040Z
LAST-MODIFIED:20250416T063443Z
UID:12894-1748030400-1748037600@kczahrada.cz
SUMMARY:THE BACKWARDS Beatles revival
DESCRIPTION:Nenechte si ujít velkolepý open air koncert v KC Zahrada! \nThe Backwards se nejen jako interpreti\, ale především jako hudebníci\, věnují tvorbě skupiny Beatles od období Beatlemanie až po poslední desky Let It Be a Abbey Road. Výsledkem preciznosti\, s jakou kapela prezentuje jejich hudbu\, je schopnost zvládnout hru na nástroje. Každá vokální linka\, harmonie\, akordová změna\, perkuse či orchestrální part a mnoho dalších podstatných detailů jsou poctivě nazkoušeny a dokonale nastudovány. Úplnost image skupiny dotváří\, stejně jako u Beatles\, levoruký baskytarista. Když jsou všechny tyto „ingredience“ pohromadě\, vzniká magický zážitek živého vystoupení. Jeden z mnoha důkazů je také dvojnásobné vítězství za nejvěrnější interpretaci na mezinárodním New York Beatlefestu. \nVstupné 690\,-Kč / sleva 650\,-Kč \n
URL:https://kczahrada.cz/udalost/the-backwards-beatles-revival-2/
LOCATION:Kulturní centrum Zahrada\, Malenická 1784\, Praha 4\, 14800
CATEGORIES:Koncert
ATTACH;FMTTYPE=image/jpeg:https://kczahrada.cz/wp-content/uploads/2025/01/Backwards_2013-scaled.jpg
ORGANIZER;CN="KC%20zahrada":MAILTO:info@kczahrada.cz
END:VEVENT
END:VCALENDAR