BEGIN:VCALENDAR
VERSION:2.0
PRODID:-//KC Zahrada - ECPv4.7.3//NONSGML v1.0//EN
CALSCALE:GREGORIAN
METHOD:PUBLISH
X-WR-CALNAME:KC Zahrada
X-ORIGINAL-URL:https://kczahrada.cz
X-WR-CALDESC:Events for KC Zahrada
BEGIN:VEVENT
DTSTART;TZID=Europe/Prague:20190325T143000
DTEND;TZID=Europe/Prague:20190325T153000
DTSTAMP:20260424T052716
CREATED:20190226T105453Z
LAST-MODIFIED:20190226T105453Z
UID:1163-1553524200-1553527800@kczahrada.cz
SUMMARY:Tenkrát na jarmarku
DESCRIPTION:Nechte se zavést do prostředí jarmarku a jarmarečních písní\, zlákat vůní čerstvého pečiva a zazpívejte si s námi více či méně známé lidové písničky. Zažijte s námi opravdový jarmark. \nPořad nejen pro seniory \nVstupné 50 Kč \n
URL:https://kczahrada.cz/udalost/tenkrat-na-jarmarku/
LOCATION:Kulturní centrum Zahrada\, Malenická 1784\, Praha 4\, 14800
CATEGORIES:Senioři
ATTACH;FMTTYPE=image/jpeg:https://kczahrada.cz/wp-content/uploads/2019/02/Tenkrát-na-jarmarku.jpg
END:VEVENT
END:VCALENDAR