BEGIN:VCALENDAR
VERSION:2.0
PRODID:-//KC Zahrada - ECPv4.7.3//NONSGML v1.0//EN
CALSCALE:GREGORIAN
METHOD:PUBLISH
X-WR-CALNAME:KC Zahrada
X-ORIGINAL-URL:https://kczahrada.cz
X-WR-CALDESC:Events for KC Zahrada
BEGIN:VEVENT
DTSTART;TZID=Europe/Prague:20251203T183000
DTEND;TZID=Europe/Prague:20251203T203000
DTSTAMP:20260421T085759
CREATED:20251110T150355Z
LAST-MODIFIED:20251128T101307Z
UID:13878-1764786600-1764793800@kczahrada.cz
SUMMARY:SPONTÁNNÍ BUBNOVÁNÍ S DRUM FLOW
DESCRIPTION:„Spontánní bubnování s DRUM FLOW.\nPřinášíme vám vlnu radosti\, svobodných zvuků a hluboké napojení na tvořivou sílu. Jsme tanečně – hudební skupina DRUM FLOW\, která učí spontánně bubnovat\, tančit a zpívat. Každá akce je originálním zážitkem\, kdy DRUM FLOW propojuje všechny účastníky v unikátní živý proud rytmů a energie. V jedno vědomí lásky a radosti.“ \nVstupné 250\,-Kč \n
URL:https://kczahrada.cz/udalost/spontanni-bubnovani-s-drum-flow-3/
LOCATION:Atrium KC Zahrada\, Malenická 1784/2\, Praha 11\, Praha\, 14800\, Česká republika
CATEGORIES:AKCE,Kurzy / kroužky
ATTACH;FMTTYPE=image/jpeg:https://kczahrada.cz/wp-content/uploads/2025/11/DF1.jpg
ORGANIZER;CN="KC%20zahrada":MAILTO:info@kczahrada.cz
END:VEVENT
END:VCALENDAR