BEGIN:VCALENDAR
VERSION:2.0
PRODID:-//KC Zahrada - ECPv4.7.3//NONSGML v1.0//EN
CALSCALE:GREGORIAN
METHOD:PUBLISH
X-WR-CALNAME:KC Zahrada
X-ORIGINAL-URL:https://kczahrada.cz
X-WR-CALDESC:Events for KC Zahrada
BEGIN:VEVENT
DTSTART;TZID=Europe/Prague:20190921T100000
DTEND;TZID=Europe/Prague:20190921T120000
DTSTAMP:20260420T184649
CREATED:20190718T085408Z
LAST-MODIFIED:20190812T133204Z
UID:1982-1569060000-1569067200@kczahrada.cz
SUMMARY:Sobotní výtvarná dílna
DESCRIPTION:Téma: Mozaika – želva \nTradiční tvořivá dílnička pro děti \nVstupné 100 Kč \nNutno rezervovat předem na Tel. 271910246 nebo emailem na zahrada@kczahrada.cz \n
URL:https://kczahrada.cz/udalost/sobotni-vytvarna-dilna-3/
LOCATION:Kulturní centrum Zahrada\, Malenická 1784\, Praha 4\, 14800
CATEGORIES:Kurzy / kroužky
ATTACH;FMTTYPE=image/jpeg:https://kczahrada.cz/wp-content/uploads/2019/07/Výtvarka-nové2.jpg
END:VEVENT
END:VCALENDAR