BEGIN:VCALENDAR
VERSION:2.0
PRODID:-//KC Zahrada - ECPv4.7.3//NONSGML v1.0//EN
CALSCALE:GREGORIAN
METHOD:PUBLISH
X-WR-CALNAME:KC Zahrada
X-ORIGINAL-URL:https://kczahrada.cz
X-WR-CALDESC:Events for KC Zahrada
BEGIN:VEVENT
DTSTART;TZID=Europe/Prague:20201114T100000
DTEND;TZID=Europe/Prague:20201114T120000
DTSTAMP:20260421T162831
CREATED:20201005T113341Z
LAST-MODIFIED:20201102T110428Z
UID:4697-1605348000-1605355200@kczahrada.cz
SUMMARY:Sobotní výtvarná dílna - ZRUŠENO
DESCRIPTION:Téma: podzimní dekorace \nTradiční tvořivá dílnička pro děti. \nNutno rezervovat předem na tel. 271910246 \nVstupné 100 Kč \n
URL:https://kczahrada.cz/udalost/sobotni-vytvarna-dilna-14/
LOCATION:Kulturní centrum Zahrada\, Malenická 1784\, Praha 4\, 14800
CATEGORIES:Dětem
ATTACH;FMTTYPE=image/jpeg:https://kczahrada.cz/wp-content/uploads/2020/10/Podzimní-dekorace.jpg
END:VEVENT
END:VCALENDAR