BEGIN:VCALENDAR
VERSION:2.0
PRODID:-//KC Zahrada - ECPv4.7.3//NONSGML v1.0//EN
CALSCALE:GREGORIAN
METHOD:PUBLISH
X-WR-CALNAME:KC Zahrada
X-ORIGINAL-URL:https://kczahrada.cz
X-WR-CALDESC:Events for KC Zahrada
BEGIN:VEVENT
DTSTART;TZID=Europe/Prague:20200613T100000
DTEND;TZID=Europe/Prague:20200613T120000
DTSTAMP:20260424T062652
CREATED:20200511T143722Z
LAST-MODIFIED:20200528T063912Z
UID:4045-1592042400-1592049600@kczahrada.cz
SUMMARY:Sobotní výtvarná dílna
DESCRIPTION:Téma: Prázdninový obrázek – koláž \nTradiční tvořivá dílnička pro děti. \nNutno rezervovat předem na tel. 271910246 nebo emailové adrese zahrada@kczahrada.cz \nVstupné 100 Kč \n
URL:https://kczahrada.cz/udalost/sobotni-vytvarna-dilna-12/
LOCATION:Kulturní centrum Zahrada\, Malenická 1784\, Praha 4\, 14800
CATEGORIES:Dětem,Kurzy / kroužky
ATTACH;FMTTYPE=image/jpeg:https://kczahrada.cz/wp-content/uploads/2020/05/Prázdninový-obrázek-dílna.jpg
END:VEVENT
END:VCALENDAR