BEGIN:VCALENDAR
VERSION:2.0
PRODID:-//KC Zahrada - ECPv4.7.3//NONSGML v1.0//EN
CALSCALE:GREGORIAN
METHOD:PUBLISH
X-WR-CALNAME:KC Zahrada
X-ORIGINAL-URL:https://kczahrada.cz
X-WR-CALDESC:Events for KC Zahrada
BEGIN:VEVENT
DTSTART;TZID=Europe/Prague:20191001T173000
DTEND;TZID=Europe/Prague:20191001T193000
DTSTAMP:20260420T213826
CREATED:20190826T140602Z
LAST-MODIFIED:20190826T140602Z
UID:2161-1569951000-1569958200@kczahrada.cz
SUMMARY:Skupinové bubnování
DESCRIPTION:Lektor: Petr Šušor \nSkupinové bubnování přináší nejen radost z vytváření hudby\, rozvoj rytmických a improvizačních schopností\, intenzívní společný prožitek\, ale i relaxaci a redukci stresu. Jedním z efektů je i posila imunitního systému. Aktivita je vhodná nejen pro rodiče s dětmi\, ale i pro všechny ostatní bez rozdílu věku a zkušeností \nDalší termíny bubnování: 5. 11.\, 3.12. 2019 \nKdy? 17.30 – 18.30 rodiče s malými dětmi\, 18.30 – 19.30 veřejné bubnování pro všechny \nVstupné 50\,- Kč/senioři\, děti a studenti\, 100\,- Kč/dospělí\, 200\,- Kč/rodinné \nVíce na www.bubnujeme.cz \n  \n \n
URL:https://kczahrada.cz/udalost/skupinove-bubnovani-6/
LOCATION:Kulturní centrum Zahrada\, Malenická 1784\, Praha 4\, 14800
CATEGORIES:Kurzy / kroužky
ATTACH;FMTTYPE=image/jpeg:https://kczahrada.cz/wp-content/uploads/2019/02/Skupinové-bubnování-e1613555329490.jpg
END:VEVENT
END:VCALENDAR