BEGIN:VCALENDAR
VERSION:2.0
PRODID:-//KC Zahrada - ECPv4.7.3//NONSGML v1.0//EN
CALSCALE:GREGORIAN
METHOD:PUBLISH
X-WR-CALNAME:KC Zahrada
X-ORIGINAL-URL:https://kczahrada.cz
X-WR-CALDESC:Events for KC Zahrada
BEGIN:VEVENT
DTSTART;TZID=Europe/Prague:20211013T100000
DTEND;TZID=Europe/Prague:20211013T113000
DTSTAMP:20260424T074803
CREATED:20210909T111137Z
LAST-MODIFIED:20210909T111137Z
UID:6525-1634119200-1634124600@kczahrada.cz
SUMMARY:Ronja - Divadlo KAKÁ
DESCRIPTION:„Svět byl takový\, až člověk ztrácel dech. Teprve když viděla\, jak je tmavý a jak šumí stromy\, pochopila\, co les\nje\, a tiše se zasmála\, jenom tak\, z radosti\, že řeky a lesy prostě jsou.“ \nPohádka podle předlohy od Astrid Lindgredové s ekologickým přesahem.\nZasazená do prostředí lesa a odpadků v něm. \nPro děti od tří let. \nScénografie: Světlana Conti Padao\nRežie: Ondřej Nosálek\nScénář\, hudba\, hraje: Jana Nosálková \n  \n
URL:https://kczahrada.cz/udalost/ronja-divadlo-kaka/
LOCATION:Kulturní centrum Zahrada\, Malenická 1784\, Praha 4\, 14800
CATEGORIES:Dětem,Divadlo
ATTACH;FMTTYPE=image/jpeg:https://kczahrada.cz/wp-content/uploads/2021/09/ronja.jpg
ORGANIZER;CN="KC%20zahrada":MAILTO:info@kczahrada.cz
END:VEVENT
END:VCALENDAR