BEGIN:VCALENDAR
VERSION:2.0
PRODID:-//KC Zahrada - ECPv4.7.3//NONSGML v1.0//EN
CALSCALE:GREGORIAN
METHOD:PUBLISH
X-WR-CALNAME:KC Zahrada
X-ORIGINAL-URL:https://kczahrada.cz
X-WR-CALDESC:Events for KC Zahrada
BEGIN:VEVENT
DTSTART;VALUE=DATE:20221003
DTEND;VALUE=DATE:20221101
DTSTAMP:20260421T150322
CREATED:20220907T110631Z
LAST-MODIFIED:20220907T110631Z
UID:9456-1664755200-1667260799@kczahrada.cz
SUMMARY:Řezbářské stardance aneb když dláta tančí
DESCRIPTION:Jihoměstský patriot Zdeněk Helcl představí své řezbářské práce. \n
URL:https://kczahrada.cz/udalost/rezbarske-stardance-aneb-kdyz-dlata-tanci/
LOCATION:Kulturní centrum Zahrada\, Malenická 1784\, Praha 4\, 14800
CATEGORIES:Výstavy
ATTACH;FMTTYPE=image/jpeg:https://kczahrada.cz/wp-content/uploads/2019/05/Země-má-výstava.jpg
ORGANIZER;CN="KC%20zahrada":MAILTO:info@kczahrada.cz
END:VEVENT
END:VCALENDAR