BEGIN:VCALENDAR
VERSION:2.0
PRODID:-//KC Zahrada - ECPv4.7.3//NONSGML v1.0//EN
CALSCALE:GREGORIAN
METHOD:PUBLISH
X-WR-CALNAME:KC Zahrada
X-ORIGINAL-URL:https://kczahrada.cz
X-WR-CALDESC:Events for KC Zahrada
BEGIN:VEVENT
DTSTART;TZID=Europe/Prague:20250305T190000
DTEND;TZID=Europe/Prague:20250305T220000
DTSTAMP:20260419T131406
CREATED:20241210T084246Z
LAST-MODIFIED:20250303T145603Z
UID:12800-1741201200-1741212000@kczahrada.cz
SUMMARY:RADŮZA
DESCRIPTION:Radůza se vrací ke svým písničkářským kořenům v sólovém programu\, v jehož rámci představí průřez svou dosavadní tvorbou i písně zcela nové. \nVstupné 600\,-Kč \n
URL:https://kczahrada.cz/udalost/raduza-2/
LOCATION:Kulturní centrum Zahrada\, Malenická 1784\, Praha 4\, 14800
CATEGORIES:Koncert
ATTACH;FMTTYPE=image/jpeg:https://kczahrada.cz/wp-content/uploads/2024/12/IMG-20250303-WA0000.jpg
ORGANIZER;CN="KC%20zahrada":MAILTO:info@kczahrada.cz
END:VEVENT
END:VCALENDAR