BEGIN:VCALENDAR
VERSION:2.0
PRODID:-//KC Zahrada - ECPv4.7.3//NONSGML v1.0//EN
CALSCALE:GREGORIAN
METHOD:PUBLISH
X-WR-CALNAME:KC Zahrada
X-ORIGINAL-URL:https://kczahrada.cz
X-WR-CALDESC:Events for KC Zahrada
BEGIN:VEVENT
DTSTART;TZID=Europe/Prague:20221107T203000
DTEND;TZID=Europe/Prague:20221107T220000
DTSTAMP:20260421T085906
CREATED:20221101T105038Z
LAST-MODIFIED:20221101T120354Z
UID:9822-1667853000-1667858400@kczahrada.cz
SUMMARY:Kino klub Zahrada – PSH Nekonečný příběh
DESCRIPTION:Českou hudební legendu Peneři strýčka Homeboye neboli PSH zná v České republice snad každý. Jací jsou ale ve skutečnosti dnes už kluci na prahu středního věku Orion\, Vladimir 518 a Mike Trafik? Vznik přelomového alba „Repertoár“\, dodnes považovaného za milník českého rapu a jednu z nejlepších desek vůbec\, posun k elektronice nebo testování maximálních možností hudebního showbyznysu i sebe sama – to je základ filmu o kapele PSH. Ta si fanoušky získala autenticitou\, vtipem i tvrdou prací a stále se drží na vrcholu díky lásce k hudbě a nerozlučnému přátelství. Nejznámější čeští rappeři se v překvapivě otevřeném a velmi osobním dokumentu se spoustou dosud nepublikovaných záběrů a soukromých archivů nebojí jít na dřeň a být stejně upřímní jako jejich hudba. Zdá se\, že příběh PSH jen tak neskončí. \nDokument\, ČR 2022\, 70 minut. Nevhodné do 12 let. \nhttps://www.csfd.cz/film/1195099-psh-nekonecny-pribeh/prehled/ \n\n  \n
URL:https://kczahrada.cz/udalost/psh-nekonecny-pribeh/
LOCATION:Kulturní centrum Zahrada\, Malenická 1784\, Praha 4\, 14800
CATEGORIES:Kino
ATTACH;FMTTYPE=image/jpeg:https://kczahrada.cz/wp-content/uploads/2022/10/PSH.jpg
ORGANIZER;CN="KC%20zahrada":MAILTO:info@kczahrada.cz
END:VEVENT
END:VCALENDAR