BEGIN:VCALENDAR
VERSION:2.0
PRODID:-//KC Zahrada - ECPv4.7.3//NONSGML v1.0//EN
CALSCALE:GREGORIAN
METHOD:PUBLISH
X-WR-CALNAME:KC Zahrada
X-ORIGINAL-URL:https://kczahrada.cz
X-WR-CALDESC:Events for KC Zahrada
BEGIN:VEVENT
DTSTART;TZID=Europe/Prague:20191007T143000
DTEND;TZID=Europe/Prague:20191007T160000
DTSTAMP:20260420T174128
CREATED:20190812T090257Z
LAST-MODIFIED:20190812T090257Z
UID:2123-1570458600-1570464000@kczahrada.cz
SUMMARY:Promenádní koncert Pražského salonního orchestru
DESCRIPTION:Promenádní koncert Pražského salonního orchestru se zpěváky Ivanou Ježkovou a Václavem Vomáčkou. \nDiriguje a pořadem provází Václav Vomáčka. \nKoncert je určen pro všechny věkové generace. \nVstupné 80 Kč \n
URL:https://kczahrada.cz/udalost/promenadni-koncert-prazskeho-salonniho-orchestru/
LOCATION:Kulturní centrum Zahrada\, Malenická 1784\, Praha 4\, 14800
CATEGORIES:Koncert,Senioři
ATTACH;FMTTYPE=image/jpeg:https://kczahrada.cz/wp-content/uploads/2019/07/Big-Band-PSO-na-web.jpg
END:VEVENT
END:VCALENDAR