BEGIN:VCALENDAR
VERSION:2.0
PRODID:-//KC Zahrada - ECPv4.7.3//NONSGML v1.0//EN
CALSCALE:GREGORIAN
METHOD:PUBLISH
X-WR-CALNAME:KC Zahrada
X-ORIGINAL-URL:https://kczahrada.cz
X-WR-CALDESC:Events for KC Zahrada
BEGIN:VEVENT
DTSTART;TZID=Europe/Prague:20231218T150000
DTEND;TZID=Europe/Prague:20231218T150000
DTSTAMP:20260421T125522
CREATED:20231120T122334Z
LAST-MODIFIED:20231120T122334Z
UID:11592-1702911600-1702911600@kczahrada.cz
SUMMARY:Pražský salónní orchestr
DESCRIPTION:Swingové Vánoce se Swing Bandem Pražského salonního orchestru.  \n
URL:https://kczahrada.cz/udalost/prazsky-salonni-orchestr-8/
LOCATION:Kulturní centrum Zahrada\, Malenická 1784\, Praha 4\, 14800
CATEGORIES:Koncert,Senioři
ATTACH;FMTTYPE=image/jpeg:https://kczahrada.cz/wp-content/uploads/2023/07/PSO-525x350-1.jpg
ORGANIZER;CN="KC%20zahrada":MAILTO:info@kczahrada.cz
END:VEVENT
END:VCALENDAR