BEGIN:VCALENDAR
VERSION:2.0
PRODID:-//KC Zahrada - ECPv4.7.3//NONSGML v1.0//EN
CALSCALE:GREGORIAN
METHOD:PUBLISH
X-WR-CALNAME:KC Zahrada
X-ORIGINAL-URL:https://kczahrada.cz
X-WR-CALDESC:Events for KC Zahrada
BEGIN:VEVENT
DTSTART;TZID=Europe/Prague:20250123T190000
DTEND;TZID=Europe/Prague:20250123T210000
DTSTAMP:20260425T155509
CREATED:20241209T134419Z
LAST-MODIFIED:20241210T084752Z
UID:12776-1737658800-1737666000@kczahrada.cz
SUMMARY:POUTNÍCI: 55 let na country scéně!
DESCRIPTION:\n 1.\, 19.00 | KC ZAHRADA\n\n  \nLegendární skupina slaví narozeniny a na jejím koncertu zazní jak nejslavnější poutnické písně Panenka\, Pojďme se napít či Hotel Hillary\, tak i novinky z CD Stíny na střechách. \nVstupné 350\,-Kč \n  \nKULTURNÍ JIŽNÍ MĚSTO o.p.s. poskytuje individuální slevy ze vstupného pro seniory\, studenty\, ZTP a ZTP/P. \n
URL:https://kczahrada.cz/udalost/poutnici-55-let-na-country-scene/
LOCATION:Kulturní centrum Zahrada\, Malenická 1784\, Praha 4\, 14800
CATEGORIES:Koncert
ATTACH;FMTTYPE=image/jpeg:https://kczahrada.cz/wp-content/uploads/2024/12/poutnici.jpg
ORGANIZER;CN="KC%20zahrada":MAILTO:info@kczahrada.cz
END:VEVENT
END:VCALENDAR