BEGIN:VCALENDAR
VERSION:2.0
PRODID:-//KC Zahrada - ECPv4.7.3//NONSGML v1.0//EN
CALSCALE:GREGORIAN
METHOD:PUBLISH
X-WR-CALNAME:KC Zahrada
X-ORIGINAL-URL:https://kczahrada.cz
X-WR-CALDESC:Events for KC Zahrada
BEGIN:VEVENT
DTSTART;TZID=Europe/Prague:20210321T203000
DTEND;TZID=Europe/Prague:20210321T223000
DTSTAMP:20260419T131505
CREATED:20210315T145243Z
LAST-MODIFIED:20210316T104447Z
UID:5540-1616358600-1616365800@kczahrada.cz
SUMMARY:Pěkně blbě - Kino Zahrada Live
DESCRIPTION:Kumail je stand-up komik\, příležitostný řidič Uberu a největší fanoušek Akt X. Emily studuje psychologii\, má skvělý smysl pro humor a rozhodně se teď nechce vázat. Alespoň do chvíle\, než vyrazí na večer stand-up komiků. Duchapřítomný Kumail Emily okamžitě padne do oka\, a i když oba tvrdí opak\, brzy je jasné\, že nepůjde jen o záležitost na jednu noc. Nadějně se rozvíjející vztah ale naruší záhadná nemoc\, která Emily uvrhne do umělého spánku. Teprve v nemocnici se potkává Kumail s jejími svéráznými rodiči\, kteří se přes počáteční nedůvěru s Kumailem postupně sbližují\, což generuje řadu zábavných situací. \nOdkaz na sál: https://sal2.mojekinolive.cz \nVstupné 100 Kč \n
URL:https://kczahrada.cz/udalost/pekne-blbe-online-kino/
CATEGORIES:Kino
ATTACH;FMTTYPE=image/jpeg:https://kczahrada.cz/wp-content/uploads/2021/03/pěkně-blbě.jpg
ORGANIZER;CN="KC%20zahrada":MAILTO:info@kczahrada.cz
END:VEVENT
END:VCALENDAR