BEGIN:VCALENDAR
VERSION:2.0
PRODID:-//KC Zahrada - ECPv4.7.3//NONSGML v1.0//EN
CALSCALE:GREGORIAN
METHOD:PUBLISH
X-WR-CALNAME:KC Zahrada
X-ORIGINAL-URL:https://kczahrada.cz
X-WR-CALDESC:Events for KC Zahrada
BEGIN:VEVENT
DTSTART;TZID=Europe/Prague:20190327T143000
DTEND;TZID=Europe/Prague:20190327T153000
DTSTAMP:20260420T233250
CREATED:20190226T120313Z
LAST-MODIFIED:20190226T120313Z
UID:1176-1553697000-1553700600@kczahrada.cz
SUMMARY:Pásmo pohádek: To nejlepší z české animované tvorby
DESCRIPTION:Broučci II. (2. část) \n  \nDvanáctidílný animovaný loutkový seriál vznikl v roce 1995 na motivy známé stejnojmenné knihy Jana Karafiáta. Scénář k seriálu vznikl ve spolupráci Anny Juráskové a Vlasty Pospíšilové. Večerníkový seriál Broučci patří bezesporu k největším animovaným projektům\, které byly u nás realizovány. \n  \nVstupné 10 Kč\n\nProjekce je určena přednostně pro děti ze ZŠ a MŠ\, ale i pro veřejnost. \n
URL:https://kczahrada.cz/udalost/pasmo-pohadek-to-nejlepsi-z-ceske-animovane-tvorby-2/
LOCATION:Kulturní centrum Zahrada\, Malenická 1784\, Praha 4\, 14800
CATEGORIES:Dětem,Pro školy
ATTACH;FMTTYPE=image/jpeg:https://kczahrada.cz/wp-content/uploads/2019/02/Broučci-anim..jpg
END:VEVENT
END:VCALENDAR