BEGIN:VCALENDAR
VERSION:2.0
PRODID:-//KC Zahrada - ECPv4.7.3//NONSGML v1.0//EN
CALSCALE:GREGORIAN
METHOD:PUBLISH
X-WR-CALNAME:KC Zahrada
X-ORIGINAL-URL:https://kczahrada.cz
X-WR-CALDESC:Events for KC Zahrada
BEGIN:VEVENT
DTSTART;TZID=Europe/Prague:20191218T143000
DTEND;TZID=Europe/Prague:20191218T153000
DTSTAMP:20260420T173400
CREATED:20191102T114041Z
LAST-MODIFIED:20191102T114041Z
UID:2925-1576679400-1576683000@kczahrada.cz
SUMMARY:Pásmo pohádek: To nejlepší z české animované tvorby
DESCRIPTION:Pásmo krátkých českých kreslených nebo loutkových pohádek tentokráte s vánoční tématikou. \nVstupné 10 Kč \nPromítání je přednostně určeno školám a školkám \n
URL:https://kczahrada.cz/udalost/pasmo-pohadek-to-nejlepsi-z-ceske-animovane-tvorby-10/
LOCATION:Kulturní centrum Zahrada\, Malenická 1784\, Praha 4\, 14800
CATEGORIES:Dětem,Kino
ATTACH;FMTTYPE=image/jpeg:https://kczahrada.cz/wp-content/uploads/2019/03/Kouzelný-dědeček.jpg
END:VEVENT
END:VCALENDAR