BEGIN:VCALENDAR
VERSION:2.0
PRODID:-//KC Zahrada - ECPv4.7.3//NONSGML v1.0//EN
CALSCALE:GREGORIAN
METHOD:PUBLISH
X-WR-CALNAME:KC Zahrada
X-ORIGINAL-URL:https://kczahrada.cz
X-WR-CALDESC:Events for KC Zahrada
BEGIN:VEVENT
DTSTART;TZID=Europe/Prague:20250115T150000
DTEND;TZID=Europe/Prague:20250115T170000
DTSTAMP:20260421T172423
CREATED:20241209T133448Z
LAST-MODIFIED:20241209T133527Z
UID:12761-1736953200-1736960400@kczahrada.cz
SUMMARY:ODPOLEDNÍ KINO: VLNY
DESCRIPTION:Nejúspěšnější film rok 2024. Dobový film režiséra Jiřího Mádla ukáže napínavé a doposud utajené příběhy novinářů Československého rozhlasu. Na konci 60. let\, kdy zněl z rádiových vln rokenrol a studentské revolty měnily svět\, nastoupí starší z bratrů do prestižní redakce rozhlasu. Záhy se ocitne v nebezpečném souboji redaktorů a tajných služeb. \n131 min | Česko | 2024 | Thriller\, Drama | Nevhodné do 12 let \n
URL:https://kczahrada.cz/udalost/odpoledni-kino-vlny/
LOCATION:Kulturní centrum Zahrada\, Malenická 1784\, Praha 4\, 14800
CATEGORIES:Kino
ATTACH;FMTTYPE=image/jpeg:https://kczahrada.cz/wp-content/uploads/2024/08/kinovlny.jpg
ORGANIZER;CN="KC%20zahrada":MAILTO:info@kczahrada.cz
END:VEVENT
END:VCALENDAR