BEGIN:VCALENDAR
VERSION:2.0
PRODID:-//KC Zahrada - ECPv4.7.3//NONSGML v1.0//EN
CALSCALE:GREGORIAN
METHOD:PUBLISH
X-WR-CALNAME:KC Zahrada
X-ORIGINAL-URL:https://kczahrada.cz
X-WR-CALDESC:Events for KC Zahrada
BEGIN:VEVENT
DTSTART;TZID=Europe/Prague:20211006T143000
DTEND;TZID=Europe/Prague:20211006T160000
DTSTAMP:20260421T075259
CREATED:20210804T061858Z
LAST-MODIFIED:20210804T062128Z
UID:6373-1633530600-1633536000@kczahrada.cz
SUMMARY:O princezně\, která chtěla všechno hned - Divadélko Kůzle
DESCRIPTION:Kdo chce všechno hned a myslí jen na sebe\, může snadno přehlédnout\, že ho má někdo rád. Podobně se to stalo i princezně v naší pohádce\, sluha Kmínek by vám mohl vyprávět. Zvítězí nakonec jeho láska nad slovíčky „rychle a hned“. Vhodné pro děti od 3 let. Hrají: Silvie a František Pokorní \n
URL:https://kczahrada.cz/udalost/o-princezne-ktera-chtela-vsechno-hned-divadelko-kuzle/
LOCATION:Kulturní centrum Zahrada\, Malenická 1784\, Praha 4\, 14800
CATEGORIES:Dětem,Divadlo
ATTACH;FMTTYPE=image/jpeg:https://kczahrada.cz/wp-content/uploads/2021/08/20.jpg
ORGANIZER;CN="KC%20zahrada":MAILTO:info@kczahrada.cz
END:VEVENT
END:VCALENDAR