BEGIN:VCALENDAR
VERSION:2.0
PRODID:-//KC Zahrada - ECPv4.7.3//NONSGML v1.0//EN
CALSCALE:GREGORIAN
METHOD:PUBLISH
X-WR-CALNAME:KC Zahrada
X-ORIGINAL-URL:https://kczahrada.cz
X-WR-CALDESC:Events for KC Zahrada
BEGIN:VEVENT
DTSTART;TZID=Europe/Prague:20190625T180000
DTEND;TZID=Europe/Prague:20190625T190000
DTSTAMP:20260420T192337
CREATED:20190503T112619Z
LAST-MODIFIED:20190503T112619Z
UID:1762-1561485600-1561489200@kczahrada.cz
SUMMARY:Naši furianti
DESCRIPTION:Hru Ladislava Stroupežnického zahraje dramatický kroužek 2. stupně ZŠ Campanus. \nVstup volný \n
URL:https://kczahrada.cz/udalost/nasi-furianti/
LOCATION:Kulturní centrum Zahrada\, Malenická 1784\, Praha 4\, 14800
CATEGORIES:Divadlo
ATTACH;FMTTYPE=image/jpeg:https://kczahrada.cz/wp-content/uploads/2019/05/ZŠ-Campanus.jpg
END:VEVENT
END:VCALENDAR