BEGIN:VCALENDAR
VERSION:2.0
PRODID:-//KC Zahrada - ECPv4.7.3//NONSGML v1.0//EN
CALSCALE:GREGORIAN
METHOD:PUBLISH
X-WR-CALNAME:KC Zahrada
X-ORIGINAL-URL:https://kczahrada.cz
X-WR-CALDESC:Events for KC Zahrada
BEGIN:VEVENT
DTSTART;TZID=Europe/Prague:20230301T143000
DTEND;TZID=Europe/Prague:20230301T153000
DTSTAMP:20260425T194910
CREATED:20230126T141057Z
LAST-MODIFIED:20230206T093417Z
UID:10243-1677681000-1677684600@kczahrada.cz
SUMMARY:Morana a Májíček - divadlo KAKÁ
DESCRIPTION:Co se stane\, když se zima rozhodne\, že nikam nepůjde\, nenechá se vynést a místo toho roste? Dokáží děti pomocí písniček a příroda pomocí květů a rodících se zvířátek nakonec Morenu vynést ze vsi? Napínavý příběh se šťastným koncem. A nebojte se. Naše Morena není tak strašidelná\, jak se může na první pohled zdát. Možná bude dětem spíše k smíchu.\nHudební loutkové představení opírající se o tradici Vítání jara a vynášení smrti za doprovodu lidových zpěvů i hudebních nástrojů: „Již nesem smrt ze vsi\, nové léto do vsi.“ Střetávají se tu dvě postavy: Morena- černobílá smrt a Májíček- ratolest ozdobená barevnými kraslicemi a stuhami. Velmi interaktivní inscenace má přiblížit dětem tuto tradici. Je možné objednat i dílnu po představení- výroba Moreny.\nPředstavení je ideální do MŠ jako doplnění předškolního vzdělávání – vztah člověka k počasí\, střídání ročních dob\, smrt/život.\nVhodné pro děti od dvou let. \n
URL:https://kczahrada.cz/udalost/morana-a-majicek-divadlo-kaka/
LOCATION:Kulturní centrum Zahrada\, Malenická 1784\, Praha 4\, 14800
CATEGORIES:Dětem,Divadlo
ATTACH;FMTTYPE=image/jpeg:https://kczahrada.cz/wp-content/uploads/2023/01/Morena-a-Majicek.jpg
ORGANIZER;CN="KC%20zahrada":MAILTO:info@kczahrada.cz
END:VEVENT
END:VCALENDAR