BEGIN:VCALENDAR
VERSION:2.0
PRODID:-//KC Zahrada - ECPv4.7.3//NONSGML v1.0//EN
CALSCALE:GREGORIAN
METHOD:PUBLISH
X-WR-CALNAME:KC Zahrada
X-ORIGINAL-URL:https://kczahrada.cz
X-WR-CALDESC:Events for KC Zahrada
BEGIN:VEVENT
DTSTART;TZID=Europe/Prague:20230206T181500
DTEND;TZID=Europe/Prague:20230206T193000
DTSTAMP:20260421T103020
CREATED:20230106T083546Z
LAST-MODIFIED:20230106T083546Z
UID:10153-1675707300-1675711800@kczahrada.cz
SUMMARY:Kurz šití pro začátečníky
DESCRIPTION:První z deseti 90minutových lekcí. Kapacita kurzu omezena na 5 osob. Přihlášky zasílejte na ivana.jirovska@kczahrada.cz \n
URL:https://kczahrada.cz/udalost/kurz-siti-pro-zacatecniky/
LOCATION:Kulturní centrum Zahrada\, Malenická 1784\, Praha 4\, 14800
CATEGORIES:Kurzy / kroužky
ATTACH;FMTTYPE=image/jpeg:https://kczahrada.cz/wp-content/uploads/2022/10/siti-1-e1665144084826.jpg
ORGANIZER;CN="KC%20zahrada":MAILTO:info@kczahrada.cz
END:VEVENT
END:VCALENDAR