BEGIN:VCALENDAR
VERSION:2.0
PRODID:-//KC Zahrada - ECPv4.7.3//NONSGML v1.0//EN
CALSCALE:GREGORIAN
METHOD:PUBLISH
X-WR-CALNAME:KC Zahrada
X-ORIGINAL-URL:https://kczahrada.cz
X-WR-CALDESC:Events for KC Zahrada
BEGIN:VEVENT
DTSTART;TZID=Europe/Prague:20200111T150000
DTEND;TZID=Europe/Prague:20200111T160000
DTSTAMP:20260420T184509
CREATED:20191128T132524Z
LAST-MODIFIED:20200104T095930Z
UID:3124-1578754800-1578758400@kczahrada.cz
SUMMARY:Kouzelník Eňo Ňuňo
DESCRIPTION:Loutky bez hranic \nHraje: Lukáš Bouzek \nVhodné pro děti od 3 let \nJe trochu nemotorný\, trochu nešikovný a trochu legrační\, ale vždy se mu\, možná omylem\, podaří něco vykouzlit. Možná něco\, co ani sám nechtěl… Humorný kabaretní kousek pro malé i velké diváky. \n
URL:https://kczahrada.cz/udalost/kouzelnik-eno-nuno/
LOCATION:Kulturní centrum Zahrada\, Malenická 1784\, Praha 4\, 14800
CATEGORIES:Dětem,Divadlo
ATTACH;FMTTYPE=image/jpeg:https://kczahrada.cz/wp-content/uploads/2019/11/Kouzelník-Eno-Nuno.jpg
END:VEVENT
END:VCALENDAR