BEGIN:VCALENDAR
VERSION:2.0
PRODID:-//KC Zahrada - ECPv4.7.3//NONSGML v1.0//EN
CALSCALE:GREGORIAN
METHOD:PUBLISH
X-WR-CALNAME:KC Zahrada
X-ORIGINAL-URL:https://kczahrada.cz
X-WR-CALDESC:Events for KC Zahrada
BEGIN:VEVENT
DTSTART;TZID=Europe/Prague:20260518T190000
DTEND;TZID=Europe/Prague:20260518T210000
DTSTAMP:20260421T122759
CREATED:20251204T143918Z
LAST-MODIFIED:20260410T091148Z
UID:14058-1779130800-1779138000@kczahrada.cz
SUMMARY:KONCERT VĚRA MARTINOVÁ & MERITUM - 40 LET NA SÓLOVÉ DRÁZE
DESCRIPTION:Srdečně vás zveme na koncert Věry Martinové a skupiny Meritum. Přijďte si vychutnat večer plný hudby ve společnosti skvělých muzikantů. Věra Martinová je výraznou osobností naší hudební scény s nezaměnitelným stylem\, kterou jistě není třeba dlouze představovat. Byť je Věra Martinová často nazývána „první dámou české country“ či „stálicí domácí populární hudby“\, sama se cítí být především muzikantkou tělem a duší\, která je otevřena všem hudebním inspiracím a vlivům. Chce své posluchače i nadále příjemně překvapovat pěknými písničkami s kvalitními texty. \n\nřada 1090\,- + welcome drink\nřada 990\,- + welcome drink\nřada 790\,-\nřada 690\,-\nřada 590\,-\nřada 490\,-\n– 13. řada 650\,-\n\n
URL:https://kczahrada.cz/udalost/koncert-vera-martinova-meritum-40-let-na-solove-draze/
LOCATION:Kulturní centrum Zahrada\, Malenická 1784\, Praha 4\, 14800
CATEGORIES:Koncert
ATTACH;FMTTYPE=image/jpeg:https://kczahrada.cz/wp-content/uploads/2025/12/Vera-2024-BIG.jpg
ORGANIZER;CN="KC%20zahrada":MAILTO:info@kczahrada.cz
END:VEVENT
END:VCALENDAR