BEGIN:VCALENDAR
VERSION:2.0
PRODID:-//KC Zahrada - ECPv4.7.3//NONSGML v1.0//EN
CALSCALE:GREGORIAN
METHOD:PUBLISH
X-WR-CALNAME:KC Zahrada
X-ORIGINAL-URL:https://kczahrada.cz
X-WR-CALDESC:Events for KC Zahrada
BEGIN:VEVENT
DTSTART;TZID=Europe/Prague:20231030T150000
DTEND;TZID=Europe/Prague:20231030T163000
DTSTAMP:20260420T023459
CREATED:20230703T120024Z
LAST-MODIFIED:20231005T121610Z
UID:10974-1698678000-1698683400@kczahrada.cz
SUMMARY:Big Band Pražského salonního orchestru: Koncert k výročí narození George Gershwina
DESCRIPTION:Koncert ke 125. výročí narození George Gershwina \n\nThey Can´t Take That Away From Me (instrumentální verze)\nFascinating Rhythm\nEmbraceable You\nA Foggy Day\nSummertime (instrumentální verze)\nStrike Up The Band\nThey Can´t Take That Away From Me (vokální verze)\nSomeone To Watch Over Me\nRhapsody In Blue\nSummertime (vokální verze)\nSomebody Loves Me\nIt´s Wonderful (instrumentální verze)\nBut Not For Me\nI Got Rhythm\nLove Is Here To Stay\nIt´s Wonderful (vokální verze)\n\nBig Band Pražského salonního orchestru \nDiriguje Zdeněk Foit \nZpěv solo Petra Vlková \nPrůvodní slovo Václav Vomáčka \n
URL:https://kczahrada.cz/udalost/koncert-k-vyroci-narozeni-george-gershwina/
CATEGORIES:Senioři
ATTACH;FMTTYPE=image/jpeg:https://kczahrada.cz/wp-content/uploads/2022/12/Big-Band-PSO-na-web.jpg
END:VEVENT
END:VCALENDAR