BEGIN:VCALENDAR
VERSION:2.0
PRODID:-//KC Zahrada - ECPv4.7.3//NONSGML v1.0//EN
CALSCALE:GREGORIAN
METHOD:PUBLISH
X-WR-CALNAME:KC Zahrada
X-ORIGINAL-URL:https://kczahrada.cz
X-WR-CALDESC:Events for KC Zahrada
BEGIN:VEVENT
DTSTART;TZID=Europe/Prague:20220930T190000
DTEND;TZID=Europe/Prague:20220930T210000
DTSTAMP:20260423T194615
CREATED:20220816T064702Z
LAST-MODIFIED:20220816T064702Z
UID:9189-1664564400-1664571600@kczahrada.cz
SUMMARY:Koncert filmové hudby II.
DESCRIPTION:Symfonický orchestr Dalibora Havlíčka se vrací do Kulturního centra Zahrada s novým Koncertem filmové hudby. \nV novém programu bude hrát hlavní roli žánr sci-fi a fantasy. Uslyšíte například hudbu z filmů Star Wars\, Pán prstenů nebo Jurský park. Na minulý koncert pak orchestr naváže několika novými skladbami z filmů o Harry Potterovi a Pirátech z Karibiku. Zazní ale i skladby z akčních filmů o Jamesi Bondovi. Westernový žánr bude opět zastoupen hudbou Ennia Morriconeho\, tentokrát z filmu Hodný\, zlý a ošklivý. Z české tvorby pak uslyšíte část westernové parodie Limonádový Joe nebo suitu z televizního seriálu Zdivočelá země. Muzikál pak bude zastoupen jednou z nejslavnějších písní A. L. Webbera – Fantom opery. \n \n
URL:https://kczahrada.cz/udalost/koncert-filmove-hudby-ii/
LOCATION:Kulturní centrum Zahrada\, Malenická 1784\, Praha 4\, 14800
CATEGORIES:Koncert
ATTACH;FMTTYPE=image/jpeg:https://kczahrada.cz/wp-content/uploads/2022/08/koncert-filmove-hudby-2-scaled.jpg
ORGANIZER;CN="KC%20zahrada":MAILTO:info@kczahrada.cz
END:VEVENT
END:VCALENDAR