BEGIN:VCALENDAR
VERSION:2.0
PRODID:-//KC Zahrada - ECPv4.7.3//NONSGML v1.0//EN
CALSCALE:GREGORIAN
METHOD:PUBLISH
X-WR-CALNAME:KC Zahrada
X-ORIGINAL-URL:https://kczahrada.cz
X-WR-CALDESC:Events for KC Zahrada
BEGIN:VEVENT
DTSTART;VALUE=DATE:20220106
DTEND;VALUE=DATE:20220201
DTSTAMP:20260421T145737
CREATED:20211215T065222Z
LAST-MODIFIED:20211215T070443Z
UID:7559-1641427200-1643673599@kczahrada.cz
SUMMARY:KOMenský v KOMiksu: Kreslený život „Učitele národů“
DESCRIPTION:Jedinečná výstava\, která komiksovým způsobem představuje životní příběh a dílo J. A. Komenského (1592-1670) \nVstup zdarma \n
URL:https://kczahrada.cz/udalost/komensky-v-komiksu-kresleny-zivot-ucitele-narodu/
LOCATION:Kulturní centrum Zahrada\, Malenická 1784\, Praha 4\, 14800
CATEGORIES:Výstavy
ATTACH;FMTTYPE=image/jpeg:https://kczahrada.cz/wp-content/uploads/2021/12/komensky.jpg
ORGANIZER;CN="KC%20zahrada":MAILTO:info@kczahrada.cz
END:VEVENT
END:VCALENDAR