BEGIN:VCALENDAR
VERSION:2.0
PRODID:-//KC Zahrada - ECPv4.7.3//NONSGML v1.0//EN
CALSCALE:GREGORIAN
METHOD:PUBLISH
X-WR-CALNAME:KC Zahrada
X-ORIGINAL-URL:https://kczahrada.cz
X-WR-CALDESC:Events for KC Zahrada
BEGIN:VEVENT
DTSTART;TZID=Europe/Prague:20250111T190000
DTEND;TZID=Europe/Prague:20250111T203000
DTSTAMP:20260421T145644
CREATED:20241209T133224Z
LAST-MODIFIED:20241209T133224Z
UID:12755-1736622000-1736627400@kczahrada.cz
SUMMARY:KINO: PREZIDENTKA
DESCRIPTION:Pět let byla prezidentkou krizemi zmítaného Slovenska. Pět let ji zblízka sledoval filmový štáb\, a to i v situacích\, kam jiné kamery nemohly. \n109 min | Slovensko\, Česko | 2024 | Dokument | Nevhodné do 12 let \nVstupné 140\,-Kč \n
URL:https://kczahrada.cz/udalost/kino-prezidentka/
LOCATION:Kulturní centrum Zahrada\, Malenická 1784\, Praha 4\, 14800
CATEGORIES:Kino
ATTACH;FMTTYPE=image/jpeg:https://kczahrada.cz/wp-content/uploads/2024/12/kino-prezidentka.jpg
ORGANIZER;CN="KC%20zahrada":MAILTO:info@kczahrada.cz
END:VEVENT
END:VCALENDAR