BEGIN:VCALENDAR
VERSION:2.0
PRODID:-//KC Zahrada - ECPv4.7.3//NONSGML v1.0//EN
CALSCALE:GREGORIAN
METHOD:PUBLISH
X-WR-CALNAME:KC Zahrada
X-ORIGINAL-URL:https://kczahrada.cz
X-WR-CALDESC:Events for KC Zahrada
BEGIN:VEVENT
DTSTART;TZID=Europe/Prague:20230116T190000
DTEND;TZID=Europe/Prague:20230116T210000
DTSTAMP:20260421T103236
CREATED:20221202T083344Z
LAST-MODIFIED:20221202T083344Z
UID:9989-1673895600-1673902800@kczahrada.cz
SUMMARY:Kino klub Zahrada – The Doors: Final Cut
DESCRIPTION:Reastaurovaná verze filmu Olivera Stonea z roku 1991. \nZtvárnění osudů slavné skupiny The Doors a zejména jejího zpěváka Jima Morrisona\, který žil nespoutaným životem\, zemřel v pouhých sedmadvaceti letech a stal se legendou. Vynikající herecký výkon Vala Kilmera v hlavní roli je doprovázen skvělou hudbou a nechybí ani největší hity The Doors! \nUSA\, 1991\, 138 minut. \nhttps://www.csfd.cz/film/8752-the-doors/prehled/ \n\n  \n
URL:https://kczahrada.cz/udalost/kino-klub-zahrada-the-doors-final-cut/
LOCATION:Kulturní centrum Zahrada\, Malenická 1784\, Praha 4\, 14800
CATEGORIES:Kino
ATTACH;FMTTYPE=image/jpeg:https://kczahrada.cz/wp-content/uploads/2022/12/the-doors.jpg
ORGANIZER;CN="KC%20zahrada":MAILTO:info@kczahrada.cz
END:VEVENT
END:VCALENDAR