BEGIN:VCALENDAR
VERSION:2.0
PRODID:-//KC Zahrada - ECPv4.7.3//NONSGML v1.0//EN
CALSCALE:GREGORIAN
METHOD:PUBLISH
X-WR-CALNAME:KC Zahrada
X-ORIGINAL-URL:https://kczahrada.cz
X-WR-CALDESC:Events for KC Zahrada
BEGIN:VEVENT
DTSTART;TZID=Europe/Prague:20220404T190000
DTEND;TZID=Europe/Prague:20220404T210000
DTSTAMP:20260421T092106
CREATED:20220304T073421Z
LAST-MODIFIED:20220307T075538Z
UID:7904-1649098800-1649106000@kczahrada.cz
SUMMARY:Kino klub Zahrada – Poslední závod
DESCRIPTION:Krkonoše před první světovou válkou byl chudý kraj\, kde se střetával český živel s německým. Hory se zpočátku století začaly dynamicky proměňovat\, zejména díky jedné novince v českých zemích – lyžím. Bohumil Hanč byl nejslavnější český lyžař\, který vyhrával závody doma i v zahraničí. Všestranný sportovec Emerich Rath se jako jediný Němec pravidelně zúčastňoval českých závodů\, ostatní Němci z Krkonoš je z nacionálních důvodů bojkotovali. Hanč a Rath se dobře znali\, setkali se i na startu osudného závodu v roce 1913. Po prvním kole se počasí prudce zhoršilo\, vypukla sněhová vánice. Všichni závodníci vzdali\, Hanč zůstal na trati sám. Polomrtvého jej nalezl právě Emerich Rath a s nasazením vlastního života se jej snažil zachránit\, bohužel marně. Později je v horách nalezen i zmrzlý Václav Vrbata\, Hančův přítel\, který ho chtěl na trati podpořit a v prudké vánici mu půjčil svůj kabát…\nPo mnichovských událostech\, druhé světové válce a následném komunistickém puči se příběh Němce\, který riskoval život\, aby pomohl českému kamarádovi\, nehodil\, a Emerich Rath byl ze všeobecně známého příběhu takřka vymazán. Hanč zemřel a stal se legendou. Rath přežil a zemřel v zapomnění jako bezdomovec. \n\n
URL:https://kczahrada.cz/udalost/kino-klub-zahrada-posledni-zavod/
LOCATION:Kulturní centrum Zahrada\, Malenická 1784\, Praha 4\, 14800
CATEGORIES:Kino
ATTACH;FMTTYPE=image/jpeg:https://kczahrada.cz/wp-content/uploads/2022/03/posledni-zavod-1.jpg
ORGANIZER;CN="KC%20zahrada":MAILTO:info@kczahrada.cz
END:VEVENT
END:VCALENDAR