BEGIN:VCALENDAR
VERSION:2.0
PRODID:-//KC Zahrada - ECPv4.7.3//NONSGML v1.0//EN
CALSCALE:GREGORIAN
METHOD:PUBLISH
X-WR-CALNAME:KC Zahrada
X-ORIGINAL-URL:https://kczahrada.cz
X-WR-CALDESC:Events for KC Zahrada
BEGIN:VEVENT
DTSTART;TZID=Europe/Prague:20220912T190000
DTEND;TZID=Europe/Prague:20220912T210000
DTSTAMP:20260419T192625
CREATED:20220817T060447Z
LAST-MODIFIED:20220817T061333Z
UID:9249-1663009200-1663016400@kczahrada.cz
SUMMARY:Kino klub Zahrada – Podezřelá
DESCRIPTION:Detektiv Hae-joon je povolán k případu úmrtí muže\, který se zabil za nejasných okolností. Stín podezření ihned padá na čerstvou vdovu. Pověst dalšího korejského fenoménu po Parazitovi a Hře na oliheň film upevnil ziskem Ceny za nejlepší režii na filmovém festivalu v Cannes. Thriller\, drama\, Jižní Korea 2022\, 138 minut. Přístupné od 15 let. \n\n
URL:https://kczahrada.cz/udalost/kino-klub-zahrada-podezrela/
LOCATION:Kulturní centrum Zahrada\, Malenická 1784\, Praha 4\, 14800
CATEGORIES:Kino
ATTACH;FMTTYPE=image/jpeg:https://kczahrada.cz/wp-content/uploads/2022/08/podezrela.jpg
ORGANIZER;CN="KC%20zahrada":MAILTO:info@kczahrada.cz
END:VEVENT
END:VCALENDAR