BEGIN:VCALENDAR
VERSION:2.0
PRODID:-//KC Zahrada - ECPv4.7.3//NONSGML v1.0//EN
CALSCALE:GREGORIAN
METHOD:PUBLISH
X-WR-CALNAME:KC Zahrada
X-ORIGINAL-URL:https://kczahrada.cz
X-WR-CALDESC:Events for KC Zahrada
BEGIN:VEVENT
DTSTART;TZID=Europe/Prague:20230206T190000
DTEND;TZID=Europe/Prague:20230206T213000
DTSTAMP:20260421T090129
CREATED:20230106T074822Z
LAST-MODIFIED:20230106T075951Z
UID:10122-1675710000-1675719000@kczahrada.cz
SUMMARY:Kino klub Zahrada – Párty Hárder: Summer Massacre
DESCRIPTION:Kino relax\nDalší nejstrašnější mejdan v historii filmu. Režisér Martin Pohl\, známý jako kontroverzní rapper Řezník nebo jako autor Mártyho frků\, natočil pokračování své kultovní a extrémně nekorektní komedie Párty Hárd. \nV Párty Hárder: Summer Massacre se vrátí parta kamarádů z prvního filmu. Ze svého příšerného večírku se už trochu oklepali a v létě vyrazí na proslulou Ibizu východu – na Mácháč\, legendární místo plné mejdanů\, muziky a nevázaného sexu. Snaží se vydělat peníze na zlatý hřeb léta – festival Summer Massacre\, od kterého si slibují životní zážitek. Užijí si léto\, nebo selžou a čekají na ně leda tak ponížení\, nedobrovolný celibát a Srbské milice? Pokračování filmu Párty Hárd dodržuje všechna pravidla filmových pokračování. Měl by být větší\, lepší\, bláznivější\, vtipnější a odvážnější. „V druhém dílu máme větší výpravu i štáb\, více herců\, rekvizit a lokací\, speciální efekty\, pár davových scén a animovanou pasáž. Pořád to ale bude velká jízda plná černého humoru\, frustrace a konzumace všeho možného. Podtitul Summer Massacre naplníme\,“ slibuje režisér Martin Pohl. První film Párty Hárd vznikl před třemi lety. Příběh tří středoškoláků\, kteří organizují divoký večírek\, aby ho využili k prvnímu sexu\, byl pro řadu diváků totálním šokem\, přesto se na nějakou dobu stal nejlépe hodnocenou českou komedií\, na YouTube ho vidělo přes milion diváků a postupně získal kultovní status. Šířku kultu Párty Hárd ukázala i veřejná sbírka pro pokračování\, které fanoušci podpořili částkou přes 1.200.000 korun během pouhých dvou týdnů. \n  \nČR\, komedie\, 2022\, 100 minut. Přístupné od 15 let. \nČSFD: https://www.csfd.cz/film/1052550-party-harder-summer-massacre/prehled/ \n\n
URL:https://kczahrada.cz/udalost/kino-klub-zahrada-party-harder-summer-massacre/
LOCATION:Kulturní centrum Zahrada\, Malenická 1784\, Praha 4\, 14800
CATEGORIES:Kino
ATTACH;FMTTYPE=image/jpeg:https://kczahrada.cz/wp-content/uploads/2023/01/summer-party.jpg
ORGANIZER;CN="KC%20zahrada":MAILTO:info@kczahrada.cz
END:VEVENT
END:VCALENDAR