BEGIN:VCALENDAR
VERSION:2.0
PRODID:-//KC Zahrada - ECPv4.7.3//NONSGML v1.0//EN
CALSCALE:GREGORIAN
METHOD:PUBLISH
X-WR-CALNAME:KC Zahrada
X-ORIGINAL-URL:https://kczahrada.cz
X-WR-CALDESC:Events for KC Zahrada
BEGIN:VEVENT
DTSTART;TZID=Europe/Prague:20191007T190000
DTEND;TZID=Europe/Prague:20191007T210000
DTSTAMP:20260420T191759
CREATED:20190909T084855Z
LAST-MODIFIED:20190909T084855Z
UID:2383-1570474800-1570482000@kczahrada.cz
SUMMARY:Kino klub Zahrada: Narušitel systému
DESCRIPTION:Emotivní drama o devítileté dívce s problémovým chováním a tváří anděla natočila jako svůj debut německá režisérka Nora Fingscheidt. Strhující příběh dítěte\, jehož matka nezvládá péči o něj a rady si nevědí ani sociální pracovníci\, je dechberoucím svědectvím o neutišitelném vzteku i touze po lásce. V hlavní roli filmu ubíhajícím v tempu podobně intenzivním jako hrdinčiny emoce podává autentický výkon Helena Zengel. \nDrama\, Německo\, 2019\, 118 min \nNa ČSFD 83% \n \nVstupné 100 / 90 Kč (studenti\, senioři) \n
URL:https://kczahrada.cz/udalost/kino-klub-zahrada-narusitel-systemu/
LOCATION:Kulturní centrum Zahrada\, Malenická 1784\, Praha 4\, 14800
CATEGORIES:Kino
ATTACH;FMTTYPE=image/jpeg:https://kczahrada.cz/wp-content/uploads/2019/09/Narušitel-systému.jpg
END:VEVENT
END:VCALENDAR