BEGIN:VCALENDAR
VERSION:2.0
PRODID:-//KC Zahrada - ECPv4.7.3//NONSGML v1.0//EN
CALSCALE:GREGORIAN
METHOD:PUBLISH
X-WR-CALNAME:KC Zahrada
X-ORIGINAL-URL:https://kczahrada.cz
X-WR-CALDESC:Events for KC Zahrada
BEGIN:VEVENT
DTSTART;TZID=Europe/Prague:20221107T190000
DTEND;TZID=Europe/Prague:20221107T203000
DTSTAMP:20260421T104153
CREATED:20221005T071528Z
LAST-MODIFIED:20221005T074904Z
UID:9637-1667847600-1667853000@kczahrada.cz
SUMMARY:Kino klub Zahrada – Můj otec kníže
DESCRIPTION:Kancléř Václava Havla\, bývalý ministr zahraničí a výrazná postava veřejného života po listopadu 1989 otevírá v rozhovoru otce a dcery řadu osobních kontroverzních témat. V průběhu pěti let se dcera a otec opakovaně setkávají\, aby si povídali na místech\, která formovala jejich životy. V Praze a na Orlíku v jižních Čechách\, ale také ve Vídni a ve štýrském Murau. Prostřednictvím rozhovorů prozkoumávají dosud utajená zákoutí společné rodinné historie. Sledujeme příběh otce\, svědka velkých událostí 20. století\, jehož dětství bylo poznamenáno vyvlastněním rodinného majetku a následným útěkem do zahraničí. Později se z něj stal jeden z nejpozoruhodnějších evropských poválečných politiků\, státník\, aristokrat a revolucionář v jedné osobě. Příběh jeho dcery poznamenalo dětství a dospívání v rodině\, které dominují dědičná knížata. Záhy se začala vzpírat etiketě a aristokratickým predikátům\, později sklouzla k drogové závislosti\, jíž se později zbavila a dokázala si vybudovat vlastní život v Londýně\, přičemž stíny minulosti zanechala za sebou. Výsledkem je velmi intimní portrét dvou lidí\, kteří jsou si blízcí i cizí zároveň. Navzdory bouřlivé rodinné historii poznamenané ranami osudu se oba upřímně snaží k sobě najít cestu. \nDokument\, ČR\, Rakousko 2022\, 88 minut. Přístupné. \nhttps://www.csfd.cz/film/1195096-muj-otec-knize/prehled/ \n
URL:https://kczahrada.cz/udalost/kino-klub-zahrada-muj-otec-knize/
LOCATION:Kulturní centrum Zahrada\, Malenická 1784\, Praha 4\, 14800
CATEGORIES:Kino
ATTACH;FMTTYPE=image/jpeg:https://kczahrada.cz/wp-content/uploads/2022/10/muj-otec-knize.jpg
ORGANIZER;CN="KC%20zahrada":MAILTO:info@kczahrada.cz
END:VEVENT
END:VCALENDAR