BEGIN:VCALENDAR
VERSION:2.0
PRODID:-//KC Zahrada - ECPv4.7.3//NONSGML v1.0//EN
CALSCALE:GREGORIAN
METHOD:PUBLISH
X-WR-CALNAME:KC Zahrada
X-ORIGINAL-URL:https://kczahrada.cz
X-WR-CALDESC:Events for KC Zahrada
BEGIN:VEVENT
DTSTART;TZID=Europe/Prague:20190902T180000
DTEND;TZID=Europe/Prague:20190902T193000
DTSTAMP:20260420T184801
CREATED:20190717T091230Z
LAST-MODIFIED:20190812T132531Z
UID:1960-1567447200-1567452600@kczahrada.cz
SUMMARY:Kino klub Zahrada: Malá čarodějnice
DESCRIPTION:Pohádka pro děti na úvod školního roku. \n  \nVšem známý Večerníček o malé čarodějnici se dočkal filmového zpracování. \n127 let „mladá“ čarodějnice se chce podívat na slavný sabat\, který se každoročně koná na vzdálené hoře. Její společník\, starý moudrý havran Abraxas\, jí to sice vymlouvá\, ale malá čarodějnice ho neposlouchá. Pozoruje slavnost ukryta za keři\, je však prozrazena a hlavní čarodějka baba Bimbula jí uloží\, že se do roka musí stát dobrou čarodějkou. Dívenka se hned pustí do učení\, a protože se má stát dobrou čarodějkou\, koná při svém učení jen samé dobré skutky. Její kouzla sleduje s nevolí stará ježibaba Pingula a když malá čarodějnice kouzlem pomůže dvěma dětem v pátek\, kdy je přísně zakázáno kouzlit\, pošle na ni za trest mráz a vánici. I toho však malá čarodějnice využije k dobru a uspořádá pro děti veselý karneval. A pak již nastane čas dalšího sabatu\, kde malá čarodějnice musí složit mistrovskou zkoušku… \nRežie: Mike Schaerer. Pohádka. Německo\, Švýcarsko\, 2018\, 103 minut. V českém znění Lucie Vondráčková\, Tomáš Juřička a další. \nhttps://www.csfd.cz/film/555353-mala-carodejnice/prehled/ \n \nVstupné 80 Kč \n
URL:https://kczahrada.cz/udalost/kino-klub-zahrada-kouzelny-park/
LOCATION:Kulturní centrum Zahrada\, Malenická 1784\, Praha 4\, 14800
CATEGORIES:Dětem,Kino,slider
ATTACH;FMTTYPE=image/jpeg:https://kczahrada.cz/wp-content/uploads/2019/07/Malá-čarodějnice.jpg
END:VEVENT
END:VCALENDAR