BEGIN:VCALENDAR
VERSION:2.0
PRODID:-//KC Zahrada - ECPv4.7.3//NONSGML v1.0//EN
CALSCALE:GREGORIAN
METHOD:PUBLISH
X-WR-CALNAME:KC Zahrada
X-ORIGINAL-URL:https://kczahrada.cz
X-WR-CALDESC:Events for KC Zahrada
BEGIN:VEVENT
DTSTART;TZID=Europe/Prague:20190923T190000
DTEND;TZID=Europe/Prague:20190923T210000
DTSTAMP:20260420T173130
CREATED:20190731T085036Z
LAST-MODIFIED:20190916T065731Z
UID:2097-1569265200-1569272400@kczahrada.cz
SUMMARY:Kino klub Zahrada: Diego Maradona
DESCRIPTION:Diego je usměvavý kluk z předměstí\, který miluje fotbal a svou velkou rodinu. Díky obrovskému talentu plní sny sobě\, svým blízkým i stovkám milionů fanoušků po celém světě. V Neapoli\, kde by i ďábel potřeboval bodyguarda\, se Diego stává Bohem. Fanatický obdiv a slávu je těžké ustát a Diego skrývá svou lidskou tvář čím dál víc pod masku Maradony. Tomu nejsou cizí divoké večírky\, nevěry\, podvody\, kokain ani pletky s mafií. Zničující spirála se roztáčí. Strhující portrét jedné z nejslavnějších a nejvíce kontroverzních osobností vůbec poskládal držitel Oscara Asif Kapadia (Senna\, Amy) z více než 500 hodin záběrů z Maradonova soukromého archivu. \nProč tento film:\n„Hlubokých lidských příběhů slavných osobností tu bylo už mnoho. U Senny a Amy jsem si potvrdila\, že nejlíp je umí zpracovat Asif Kapadia. Je fascinující\, jak komplexní a probarvený příběh dokáže poskládat bez mluvících hlav a umělých rekonstrukcí situací\, pouze s použitím autentických archivů. U Diega Maradony nejenže Kapadia odvedl opět skvělou práci\, ale nabídl mi dokonce ještě něco navíc. Je to moment\, kdy Diega odsoudí celá Itálie\, přestože dělal jen to\, co umí nejlíp a co po něm celý život všichni chtěli\, hrál fotbal a dal gól. Moment\, který determinoval celý jeho následující život. A tenhle moment vás musí zasáhnout\, i když vám je fotbal úplně ukradený. Mně fotbal úplně ukradený není\, ale i bez toho bych si dovolila říct\, že snímek Diego Maradona je jeden z nejlepších filmů\, který jsem v posledních letech viděla.“ Anna Lísalová\, Aerofilms \nRežie: Asif Kapadia. Dokumentární. VB\, 2019\, 130 minut\, CZ titulky. Přístupné od 12 let \n  \n \nhttps://www.csfd.cz/film/674555-diego-maradona/prehled/ \nVstupné 100 / 90 Kč (studenti\, senioři) \n
URL:https://kczahrada.cz/udalost/kino-klub-zahrada-diego-maradona/
LOCATION:Kulturní centrum Zahrada\, Malenická 1784\, Praha 4\, 14800
CATEGORIES:Kino,slider
ATTACH;FMTTYPE=image/jpeg:https://kczahrada.cz/wp-content/uploads/2019/07/Diego-Maradona-film.jpg
END:VEVENT
END:VCALENDAR