BEGIN:VCALENDAR
VERSION:2.0
PRODID:-//KC Zahrada - ECPv4.7.3//NONSGML v1.0//EN
CALSCALE:GREGORIAN
METHOD:PUBLISH
X-WR-CALNAME:KC Zahrada
X-ORIGINAL-URL:https://kczahrada.cz
X-WR-CALDESC:Events for KC Zahrada
BEGIN:VEVENT
DTSTART;TZID=Europe/Prague:20190128T143000
DTEND;TZID=Europe/Prague:20190128T163000
DTSTAMP:20260420T201214
CREATED:20190107T115139Z
LAST-MODIFIED:20190117T075836Z
UID:288-1548685800-1548693000@kczahrada.cz
SUMMARY:Hovory W
DESCRIPTION:Zábavný pořad ve stylu talk show s písničkami (nejen) Osvobozeného divadla. Účinkují Jiří Werich Petrášek\, Pavel Mészároš a Karel Štolba (klavír). \nJiří Werich Petrášek stíhá ve svém životě spoustu činností – působí jako moderátor\, herec\, dabér a bavič. Jeho hlas znají posluchači Českého rozhlasu z pořadu Mikrofórum\, kam si pravidelně zve zajímavé hosty. Objevuje se před kamerou i na divadelních prknech. Není divu – zdědil totiž po svém otci pro tuto práci ty nejlepší předpoklady. \nZajímavé a zábavné povídání Hovorů W doplní skladby Osvobozeného divadla a jiné známé a oblíbené písničky. Většinu z nich si publikum s chutí zazpívá. Za klávesami bude dvorní pianista Marty Kubišové\, Marie Rottrové a dalších hvězd\, Karel Štolba. Těšte se na víc než příjemnou atmosféru! \n
URL:https://kczahrada.cz/udalost/hovory-w/
LOCATION:Komunitní centrum Matky Terezy\, U Modré školy 2337\, Praha 11-Háje\, 149 00
CATEGORIES:Koncert,slider
ATTACH;FMTTYPE=image/png:https://kczahrada.cz/wp-content/uploads/2019/01/eben-1.png
ORGANIZER;CN="KC%20zahrada":MAILTO:info@kczahrada.cz
END:VEVENT
END:VCALENDAR