BEGIN:VCALENDAR
VERSION:2.0
PRODID:-//KC Zahrada - ECPv4.7.3//NONSGML v1.0//EN
CALSCALE:GREGORIAN
METHOD:PUBLISH
X-WR-CALNAME:KC Zahrada
X-ORIGINAL-URL:https://kczahrada.cz
X-WR-CALDESC:Events for KC Zahrada
BEGIN:VEVENT
DTSTART;TZID=Europe/Prague:20190330T150000
DTEND;TZID=Europe/Prague:20190330T210000
DTSTAMP:20260420T201950
CREATED:20190226T121015Z
LAST-MODIFIED:20190226T121015Z
UID:1181-1553958000-1553979600@kczahrada.cz
SUMMARY:Festival ochotnického divadla
DESCRIPTION:V druhém a třetím dni přehlídky se v programu pro děti v sobotu představí domácí soubor DS Amartum\, který uvede pohádku Co snídají tygři\, v neděli pak DS Svatopluk z Benešova s pohádkou na motivy Jana  Wericha Rozum a Štěstí. \nS představeními pro dospělé vystoupí v sobotu DS Jiřího Voskovce Sázava\, který představí hru Normana Robbinse Hrobka s vyhlídkou a jihoměstský DS Amartum v neděli naposledy v derniéře uvede hru Vinetú\, Vinetúú. \nPROGRAM:\n\n30.3. / 15.00 CO SNÍDAJÍ TYGŘI – DS Amartum\n30.3. / 19.00 HROBKA S VYHLÍDKOU – DS Jiřího Voskovce Sázava\n31.3. / 15.00 ROZUM A ŠTĚSTÍ – DS Svatopluk\n31.3. / 19.00 VINETÚ\, VINETÚÚ – DS Amartum \nVstupné na představení v 15 h 50 Kč\, na představení v 19 h 130/100 Kč \n  \n  \nCo snídají tygři \nCo se všechno stane\, když přijde do Lesa nový obyvatel a měl by snídat? Co vlastně snídá takový tygr? On sice tvrdí\, že tygři mají všechno rádi\, ale je to opravdu tak? A potřebuje tygr medicínu na zesílení? A co se stane\, když takový tygr kýchne? Na závěr si Prasátko vzpomene\, jaké to bylo\, když předstíralo\, že je Klokánek. Hra je vhodná pro děti od 4 do 10 let\, trvá cca 45 minut a hraje se bez přestávky. \nHrobka s vyhlídkou \nStarobylý dům zahalený v mlze\, rozlehlá zahrada s podivným záhonem růží a hrobka se zapečetěnou rakví. V ní údajně odpočívá právě zesnulý majitel panství. Ale jak je tomu ve skutečnosti? Rodinný právník se připravuje na čtení poslední vůle zesnulého a potomci se již nemohou dočkat\, jaké bohatství jim tatínek odkázal\, každý si z rodinného jmění chce utrhnout největší kus pro sebe. Ale komu patří tajemná ruka objevující se tu v tajném vchodu za knihovnou\, ondy ve škvíře mezi dveřmi? Kdo má prsty v záhadných a náhlých odchodech dědiců na věčnost? Napětí i neotřelý humor v detektivní komedii s hororovými prvky. \n
URL:https://kczahrada.cz/udalost/festival-ochotnickeho-divadla-2/
LOCATION:Kulturní centrum Zahrada\, Malenická 1784\, Praha 4\, 14800
CATEGORIES:Divadlo
ATTACH;FMTTYPE=image/jpeg:https://kczahrada.cz/wp-content/uploads/2019/02/Hrobka-s-vyhlídkou.jpg
END:VEVENT
END:VCALENDAR