BEGIN:VCALENDAR
VERSION:2.0
PRODID:-//KC Zahrada - ECPv4.7.3//NONSGML v1.0//EN
CALSCALE:GREGORIAN
METHOD:PUBLISH
X-WR-CALNAME:KC Zahrada
X-ORIGINAL-URL:https://kczahrada.cz
X-WR-CALDESC:Events for KC Zahrada
BEGIN:VEVENT
DTSTART;TZID=Europe/Prague:20250330T160000
DTEND;TZID=Europe/Prague:20250330T173000
DTSTAMP:20260424T042152
CREATED:20250206T085840Z
LAST-MODIFIED:20250227T175942Z
UID:13006-1743350400-1743355800@kczahrada.cz
SUMMARY:DIVADELNÍ FESTIVAL : PANE ERBENE\, NEŘEKNĚTE NE!
DESCRIPTION:Naše představení přináší reinterpretaci čtyř klasických balad Karla Jaromíra Erbena – Svatební košile\, Poklad\, Dceřina kletba a Vrba. Každá z těchto balad\, byť zasazená do jiného období\, nese univerzální poselství a hluboké morální poučení\, které osloví diváky všech generací. Jsou to příběhy o lidské odvaze\, víře\, odpuštění a naději\, které přesahují hranice času a prostoru. Zveme vás na cestu\, která propojuje minulost\, přítomnost a budoucnost\, kde lidské emoce a hodnoty překonávají hranice času. Režie: Jolana Petříková. \nDivse – Divadelní soubor Hostivice \nVstupné 150\,-Kč \n
URL:https://kczahrada.cz/udalost/divadelni-festival-pane-erbene-nereknete-ne/
LOCATION:Kulturní centrum Zahrada\, Malenická 1784\, Praha 4\, 14800
CATEGORIES:Divadlo
ATTACH;FMTTYPE=image/jpeg:https://kczahrada.cz/wp-content/uploads/2025/02/brezen-A3-plakaty-na-akce-final-tisk_09.jpg
ORGANIZER;CN="KC%20zahrada":MAILTO:info@kczahrada.cz
END:VEVENT
END:VCALENDAR