BEGIN:VCALENDAR
VERSION:2.0
PRODID:-//KC Zahrada - ECPv4.7.3//NONSGML v1.0//EN
CALSCALE:GREGORIAN
METHOD:PUBLISH
X-WR-CALNAME:KC Zahrada
X-ORIGINAL-URL:https://kczahrada.cz
X-WR-CALDESC:Events for KC Zahrada
BEGIN:VEVENT
DTSTART;TZID=Europe/Prague:20260526T160000
DTEND;TZID=Europe/Prague:20260526T160000
DTSTAMP:20260422T134019
CREATED:20260422T063756Z
LAST-MODIFIED:20260422T064758Z
UID:14755-1779811200-1779811200@kczahrada.cz
SUMMARY:DĚTSKÁ ZAHRADA S PIRÁTY
DESCRIPTION:DĚTSKÁ ZAHRADA S PIRÁTY  \nRodinné odpoledne plné zábavy k blížícímu se Mezinárodnímu dni dětí. Ve spolupráci s Rodinným centrem Babočka se děti vyřádí na stanovištích\, které když zvládnou\, čeká je sladká odměna. Letos vše ve stylu pirátů.   \nVstupné zdarma  \n
URL:https://kczahrada.cz/udalost/detska-zahrada-s-piraty/
CATEGORIES:AKCE,Dětem
ATTACH;FMTTYPE=image/jpeg:https://kczahrada.cz/wp-content/uploads/2026/04/plakaty_kveten_A25.jpg
END:VEVENT
END:VCALENDAR