BEGIN:VCALENDAR
VERSION:2.0
PRODID:-//KC Zahrada - ECPv4.7.3//NONSGML v1.0//EN
CALSCALE:GREGORIAN
METHOD:PUBLISH
X-WR-CALNAME:KC Zahrada
X-ORIGINAL-URL:https://kczahrada.cz
X-WR-CALDESC:Events for KC Zahrada
BEGIN:VEVENT
DTSTART;TZID=Europe/Prague:20260531T150000
DTEND;TZID=Europe/Prague:20260531T170000
DTSTAMP:20260424T100420
CREATED:20260422T065941Z
LAST-MODIFIED:20260422T070058Z
UID:14757-1780239600-1780246800@kczahrada.cz
SUMMARY:DEN DĚTÍ 
DESCRIPTION:DEN DĚTÍ  \nZveme vás na odpoledne plné zábavy a her tentokráte v astronautském stylu. Mobilní planetárium a přednáška s astronomem od 17 hodin. Dílna na výrobu rakety a pro mladší masky mimozemšťanů a astronautů.  \nVstupné zdarma.    \n
URL:https://kczahrada.cz/udalost/den-deti-2/
CATEGORIES:AKCE,Dětem
ATTACH;FMTTYPE=image/jpeg:https://kczahrada.cz/wp-content/uploads/2026/04/plakaty_kveten_A27.jpg
END:VEVENT
END:VCALENDAR