BEGIN:VCALENDAR
VERSION:2.0
PRODID:-//KC Zahrada - ECPv4.7.3//NONSGML v1.0//EN
CALSCALE:GREGORIAN
METHOD:PUBLISH
X-WR-CALNAME:KC Zahrada
X-ORIGINAL-URL:https://kczahrada.cz
X-WR-CALDESC:Events for KC Zahrada
BEGIN:VEVENT
DTSTART;TZID=Europe/Prague:20190606T200000
DTEND;TZID=Europe/Prague:20190606T220000
DTSTAMP:20260420T172832
CREATED:20190401T111859Z
LAST-MODIFIED:20190530T070743Z
UID:1557-1559851200-1559858400@kczahrada.cz
SUMMARY:Cimbal Classic - Kateřina a Dalibor Štruncovi
DESCRIPTION:Cimbal Classic je brněnská nadžánrová kapela Kateřiny a Dalibora Štruncových (mj. houslistka a cimbalista skupiny Javory sourozenců Ulrychových)\, která patří už více než pětadvacet let mezi stálice a nejosobitější uskupení české folkové a alternativní hudební scény. Zastává v ní ojedinělou pozici – není tu druhé uskupení\, které by bylo podobné vyspělým způsobem aranžování a hudebním projevem a současně písničkařením od „cimbálu“. \nŠtruncův autorský rukopis a zpěv jeho ženy Kateřiny dělají z Cimbal Classiku nezaměnitelný soubor\, který se samozřejmě opírá i o další šikovné muzikanty. Všichni členové skupiny jsou součástí i dalších renomovaných\, profesionálních hudebních uskupení. V kapele spolu hrají Češi i Slováci a obvykle vystupuje v šestičlenném složení: Katku a Dalibora Štruncovy coby pilíře a pěvecké frontmany kapely doplňují hobojista a sopránsaxofonista Rastislav Kozoň\, violistka Katka Kovaříková\, basista Juraj Valenčík a mandolinista Martin Krajíček. \nDnešní Cimbal Classic\, to je hudba ovlivněná folkem\, folklórem\, world music\, ale i vážnou hudbou plující někde na rozhraní těchto žánrů. Máte-li rádi průzračné a čisté melodie\, lyrické\, přemýšlivé a vtipné texty propojené přirozeným zpěvem a nadprůměrným muzikantským řemeslem\, pak Vás Cimbal Classic určitě nezklame. \n  \nJako ochutnávku a pozvánku do hlediště lze „cimbalclassickou folkovou komořinku“ zhlédnout třeba v těchto odkazech: \nwww.youtube.com/watch?v=0wOrax2rXBo Všechno je hudba \nhttps://www.youtube.com/watch?v=6PisYTO5qA8  Noc s pastýřem \nhttps://www.youtube.com/watch?v=DdToH4bdEuw Těžký život muzikanta \nhttps://www.youtube.com/watch?v=791Mc8YHlBoUkolébavka \nhttps://www.youtube.com/watch?v=Kn835rpiTNM Vrávorám \nhttps://www.youtube.com/watch?v=HhTQbUzc-JA  Srdéčko \nVíce na  www.cimbalclassic.net \n  \nVstupné 250 Kč / 200 Kč (studenti\, senioři) \n
URL:https://kczahrada.cz/udalost/cimbal-classic/
LOCATION:Kulturní centrum Zahrada\, Malenická 1784\, Praha 4\, 14800
CATEGORIES:Koncert,slider
ATTACH;FMTTYPE=image/jpeg:https://kczahrada.cz/wp-content/uploads/2019/04/Cimbál-classic.jpg
END:VEVENT
END:VCALENDAR