BEGIN:VCALENDAR
VERSION:2.0
PRODID:-//KC Zahrada - ECPv4.7.3//NONSGML v1.0//EN
CALSCALE:GREGORIAN
METHOD:PUBLISH
X-WR-CALNAME:KC Zahrada
X-ORIGINAL-URL:https://kczahrada.cz
X-WR-CALDESC:Events for KC Zahrada
BEGIN:VEVENT
DTSTART;TZID=Europe/Prague:20200415T160000
DTEND;TZID=Europe/Prague:20200430T160000
DTSTAMP:20260421T063601
CREATED:20200227T092301Z
LAST-MODIFIED:20200414T123133Z
UID:3691-1586966400-1588262400@kczahrada.cz
SUMMARY:Čáry\, čmáry\, malování - PŘUSUNUTO
DESCRIPTION:Výstava se bude konat v KC Zahrada v náhradním termínu\, který bude oznámen později. \n  \nVýstava výtvarných prací zákl. škol na Praze 11 a ZUŠ Jižní Město.\nVýstava potrvá od 15.4. do 30.4. a pořádá ji Kulturní Jižní Město o.p.s. ve spolupráci se ZUŠ Jižní Město. \nVstup volný \n
URL:https://kczahrada.cz/udalost/cary-cmary-malovani-2/
LOCATION:Kulturní centrum Zahrada\, Malenická 1784\, Praha 4\, 14800
CATEGORIES:Výstavy
ATTACH;FMTTYPE=image/jpeg:https://kczahrada.cz/wp-content/uploads/2019/03/Čáry-čmáry-malování.jpg
END:VEVENT
END:VCALENDAR