BEGIN:VCALENDAR
VERSION:2.0
PRODID:-//KC Zahrada - ECPv4.7.3//NONSGML v1.0//EN
CALSCALE:GREGORIAN
METHOD:PUBLISH
X-WR-CALNAME:KC Zahrada
X-ORIGINAL-URL:https://kczahrada.cz
X-WR-CALDESC:Events for KC Zahrada
BEGIN:VEVENT
DTSTART;TZID=Europe/Prague:20250422T163000
DTEND;TZID=Europe/Prague:20250422T180000
DTSTAMP:20260421T101710
CREATED:20250228T074548Z
LAST-MODIFIED:20250228T074548Z
UID:13109-1745339400-1745344800@kczahrada.cz
SUMMARY:ČARODĚJNICKÉ VESELÍ
DESCRIPTION:Přijďte potrénovat na filipojakubskou noc s čarodějnicemi z RC Babočka! Není nad to si společně zatančit u ohně\, poradit si se začarovanými úkoly a společně se veselit!  Akce je zdarma a koná se venku\, ve spolupráci s KC Zahrada. Podrobné informace najdete na www.rcbabocka.cz \nVstupné zdarma \n
URL:https://kczahrada.cz/udalost/carodejnicke-veseli-2/
LOCATION:Kulturní centrum Zahrada\, Malenická 1784\, Praha 4\, 14800
CATEGORIES:Dětem
ATTACH;FMTTYPE=image/jpeg:https://kczahrada.cz/wp-content/uploads/2019/05/RC-Babočka.jpg
ORGANIZER;CN="KC%20zahrada":MAILTO:info@kczahrada.cz
END:VEVENT
END:VCALENDAR